BEGIN:VCALENDAR
VERSION:2.0
PRODID:-//MoreDirt v1.0//EN
BEGIN:VEVENT
DTSTAMP:20150730T130000Z
ORGANIZER;CN=Canyon:MAILTO:
STATUS:CONFIRMED
UID:MORESPORTSNETWORK3484
DTSTART:20190317T080000+0000
DTEND:20190317T120000+0000
SUMMARY:Canyon Sessions: Surrey Hills
DESCRIPTION:Canyon Sessions: Surrey Hills - more details: https://www.moredirt.com/event/3484
X-ALT-DESC;FMTTYPE=text/html:Canyon Sessions: Surrey Hills - more details: https://www.moredirt.com/event/3484
LOCATION:
END:VEVENT
END:VCALENDAR