BEGIN:VCALENDAR
VERSION:2.0
PRODID:-//MoreDirt v1.0//EN
BEGIN:VEVENT
DTSTAMP:20150730T130000Z
ORGANIZER;CN=Swinley Forest Enduro:MAILTO:
STATUS:CONFIRMED
UID:MORESPORTSNETWORK3454
DTSTART:20190907T080000Z
DTEND:20190907T120000Z
SUMMARY:Swinduro 2019
DESCRIPTION:Swinduro 2019 - more details: https://www.moredirt.com/event/3454
X-ALT-DESC;FMTTYPE=text/html:Swinduro 2019 - more details: https://www.moredirt.com/event/3454
LOCATION:
END:VEVENT
END:VCALENDAR