BEGIN:VCALENDAR
VERSION:2.0
PRODID:-//MoreDirt v1.0//EN
BEGIN:VEVENT
DTSTAMP:20150730T130000Z
ORGANIZER;CN=The Chasers Collective:MAILTO:
STATUS:CONFIRMED
UID:MORESPORTSNETWORK3449
DTSTART:20190727T080000Z
DTEND:20190727T120000Z
SUMMARY:TCC Three Sixty MTB race
DESCRIPTION:TCC Three Sixty MTB race - more details: https://www.moredirt.com/event/3449
X-ALT-DESC;FMTTYPE=text/html:TCC Three Sixty MTB race - more details: https://www.moredirt.com/event/3449
LOCATION:
END:VEVENT
END:VCALENDAR