BEGIN:VCALENDAR
VERSION:2.0
PRODID:-//MoreDirt v1.0//EN
BEGIN:VEVENT
DTSTAMP:20150730T130000Z
ORGANIZER;CN=Severn Dean & forest Of Dean Lions Clubs:MAILTO:
STATUS:CONFIRMED
UID:MORESPORTSNETWORK3445
DTSTART:20190512T080000Z
DTEND:20190512T120000Z
SUMMARY:Wild Boar Chase 2019
DESCRIPTION:Wild Boar Chase 2019 - more details: https://www.moredirt.com/event/3445
X-ALT-DESC;FMTTYPE=text/html:Wild Boar Chase 2019 - more details: https://www.moredirt.com/event/3445
LOCATION:
END:VEVENT
END:VCALENDAR