BEGIN:VCALENDAR
VERSION:2.0
PRODID:-//MoreDirt v1.0//EN
BEGIN:VEVENT
DTSTAMP:20150730T130000Z
ORGANIZER;CN=Rutland Cycling:MAILTO:
STATUS:CONFIRMED
UID:MORESPORTSNETWORK3444
DTSTART:20190320T080000+0000
DTEND:20190320T120000+0000
SUMMARY:Whyte Bikes MTB Night Ride
DESCRIPTION:Whyte Bikes MTB Night Ride - more details: https://www.moredirt.com/event/3444
X-ALT-DESC;FMTTYPE=text/html:Whyte Bikes MTB Night Ride - more details: https://www.moredirt.com/event/3444
LOCATION:
END:VEVENT
END:VCALENDAR