BEGIN:VCALENDAR
VERSION:2.0
PRODID:-//MoreDirt v1.0//EN
BEGIN:VEVENT
DTSTAMP:20150730T130000Z
ORGANIZER;CN=Hopetech Women:MAILTO:
STATUS:CONFIRMED
UID:MORESPORTSNETWORK3435
DTSTART:20190831T080000Z
DTEND:20190831T120000Z
SUMMARY:Hopetech Women Ride - Hope Valley, Peak District
DESCRIPTION:Hopetech Women Ride - Hope Valley, Peak District - more details: https://www.moredirt.com/event/3435
X-ALT-DESC;FMTTYPE=text/html:Hopetech Women Ride - Hope Valley, Peak District - more details: https://www.moredirt.com/event/3435
LOCATION:
END:VEVENT
END:VCALENDAR