BEGIN:VCALENDAR
VERSION:2.0
PRODID:-//MoreDirt v1.0//EN
BEGIN:VEVENT
DTSTAMP:20150730T130000Z
ORGANIZER;CN=Coupar Angus Cycling Hub:MAILTO:
STATUS:CONFIRMED
UID:MORESPORTSNETWORK3400
DTSTART:20190629T080000Z
DTEND:20190630T120000Z
SUMMARY:Ballo Enduro 2019
DESCRIPTION:Ballo Enduro 2019 - more details: https://www.moredirt.com/event/3400
X-ALT-DESC;FMTTYPE=text/html:Ballo Enduro 2019 - more details: https://www.moredirt.com/event/3400
LOCATION:
END:VEVENT
END:VCALENDAR