BEGIN:VCALENDAR
VERSION:2.0
PRODID:-//MoreDirt v1.0//EN
BEGIN:VEVENT
DTSTAMP:20150730T130000Z
ORGANIZER;CN=Action Academy:MAILTO:
STATUS:CONFIRMED
UID:MORESPORTSNETWORK3383
DTSTART:20190823T080000Z
DTEND:20190826T120000Z
SUMMARY:Big Bike Bash 2019
DESCRIPTION:Big Bike Bash 2019 - more details: https://www.moredirt.com/event/3383
X-ALT-DESC;FMTTYPE=text/html:Big Bike Bash 2019 - more details: https://www.moredirt.com/event/3383
LOCATION:
END:VEVENT
END:VCALENDAR