BEGIN:VCALENDAR
VERSION:2.0
PRODID:-//MoreDirt v1.0//EN
BEGIN:VEVENT
DTSTAMP:20150730T130000Z
ORGANIZER;CN=Wheelbase:MAILTO:
STATUS:CONFIRMED
UID:MORESPORTSNETWORK3382
DTSTART:20190406T080000Z
DTEND:20190406T120000Z
SUMMARY:Wheelbase North East Demo
DESCRIPTION:Wheelbase North East Demo - more details: https://www.moredirt.com/event/3382
X-ALT-DESC;FMTTYPE=text/html:Wheelbase North East Demo - more details: https://www.moredirt.com/event/3382
LOCATION:
END:VEVENT
END:VCALENDAR