BEGIN:VCALENDAR
VERSION:2.0
PRODID:-//MoreDirt v1.0//EN
BEGIN:VEVENT
DTSTAMP:20150730T130000Z
ORGANIZER;CN=Chris Robson:MAILTO:
STATUS:CONFIRMED
UID:MORESPORTSNETWORK3342
DTSTART:20190622T080000Z
DTEND:20190622T120000Z
SUMMARY:MontytraX Mountain Bike Challenge
DESCRIPTION:MontytraX Mountain Bike Challenge - more details: https://www.moredirt.com/event/3342
X-ALT-DESC;FMTTYPE=text/html:MontytraX Mountain Bike Challenge - more details: https://www.moredirt.com/event/3342
LOCATION:
END:VEVENT
END:VCALENDAR