BEGIN:VCALENDAR
VERSION:2.0
PRODID:-//MoreDirt v1.0//EN
BEGIN:VEVENT
DTSTAMP:20150730T130000Z
ORGANIZER;CN=Okeford Hill Bikepark:MAILTO:
STATUS:CONFIRMED
UID:MORESPORTSNETWORK3315
DTSTART:20181208T080000+0000
DTEND:20181208T120000+0000
SUMMARY:GT Demo Day - Okeford Hill Bike Park
DESCRIPTION:GT Demo Day - Okeford Hill Bike Park - more details: https://www.moredirt.com/event/3315
X-ALT-DESC;FMTTYPE=text/html:GT Demo Day - Okeford Hill Bike Park - more details: https://www.moredirt.com/event/3315
LOCATION:
END:VEVENT
END:VCALENDAR