BEGIN:VCALENDAR
VERSION:2.0
PRODID:-//MoreDirt v1.0//EN
BEGIN:VEVENT
DTSTAMP:20150730T130000Z
ORGANIZER;CN=Freeride Madeira:MAILTO:
STATUS:CONFIRMED
UID:MORESPORTSNETWORK3311
DTSTART:20190604T080000Z
DTEND:20190608T120000Z
SUMMARY:Trans Madeira 2019
DESCRIPTION:Trans Madeira 2019 - more details: https://www.moredirt.com/event/3311
X-ALT-DESC;FMTTYPE=text/html:Trans Madeira 2019 - more details: https://www.moredirt.com/event/3311
LOCATION:
END:VEVENT
END:VCALENDAR