BEGIN:VCALENDAR
VERSION:2.0
PRODID:-//MoreDirt v1.0//EN
BEGIN:VEVENT
DTSTAMP:20150730T130000Z
ORGANIZER;CN=Edge Cycles:MAILTO:
STATUS:CONFIRMED
UID:MORESPORTSNETWORK3302
DTSTART:20181124T080000+0000
DTEND:20181125T120000+0000
SUMMARY:Scott Ransom Demo Weekend
DESCRIPTION:Scott Ransom Demo Weekend - more details: https://www.moredirt.com/event/3302
X-ALT-DESC;FMTTYPE=text/html:Scott Ransom Demo Weekend - more details: https://www.moredirt.com/event/3302
LOCATION:
END:VEVENT
END:VCALENDAR