BEGIN:VCALENDAR
VERSION:2.0
PRODID:-//MoreDirt v1.0//EN
BEGIN:VEVENT
DTSTAMP:20150730T130000Z
ORGANIZER;CN=Dorset Rough Riders:MAILTO:
STATUS:CONFIRMED
UID:MORESPORTSNETWORK3280
DTSTART:20181229T080000+0000
DTEND:20181229T120000+0000
SUMMARY:The DRRt Mountainbike Challenge
DESCRIPTION:The DRRt Mountainbike Challenge - more details: https://www.moredirt.com/event/3280
X-ALT-DESC;FMTTYPE=text/html:The DRRt Mountainbike Challenge - more details: https://www.moredirt.com/event/3280
LOCATION:
END:VEVENT
END:VCALENDAR