BEGIN:VCALENDAR
VERSION:2.0
PRODID:-//MoreDirt v1.0//EN
BEGIN:VEVENT
DTSTAMP:20150730T130000Z
ORGANIZER;CN=MTB Uplifts:MAILTO:
STATUS:CONFIRMED
UID:MORESPORTSNETWORK3273
DTSTART:20181202T080000+0000
DTEND:20181202T120000+0000
SUMMARY:MTB Uplifts Day at Moelfre
DESCRIPTION:MTB Uplifts Day at Moelfre - more details: https://www.moredirt.com/event/3273
X-ALT-DESC;FMTTYPE=text/html:MTB Uplifts Day at Moelfre - more details: https://www.moredirt.com/event/3273
LOCATION:
END:VEVENT
END:VCALENDAR