BEGIN:VCALENDAR
VERSION:2.0
PRODID:-//MoreDirt v1.0//EN
BEGIN:VEVENT
DTSTAMP:20150730T130000Z
ORGANIZER;CN=Glencullen Adventure Park - The GAP:MAILTO:
STATUS:CONFIRMED
UID:MORESPORTSNETWORK3256
DTSTART:20181117T080000+0000
DTEND:20181118T120000+0000
SUMMARY:MTB Demo Weekend - Glencullen
DESCRIPTION:MTB Demo Weekend - Glencullen - more details: https://www.moredirt.com/event/3256
X-ALT-DESC;FMTTYPE=text/html:MTB Demo Weekend - Glencullen - more details: https://www.moredirt.com/event/3256
LOCATION:
END:VEVENT
END:VCALENDAR