BEGIN:VCALENDAR
VERSION:2.0
PRODID:-//MoreDirt v1.0//EN
BEGIN:VEVENT
DTSTAMP:20150730T130000Z
ORGANIZER;CN=Just Events Ltd:MAILTO:
STATUS:CONFIRMED
UID:MORESPORTSNETWORK3242
DTSTART:20190330T080000+0000
DTEND:20190330T120000+0000
SUMMARY:Haldon Heroic 2019
DESCRIPTION:Haldon Heroic 2019 - more details: https://www.moredirt.com/event/3242
X-ALT-DESC;FMTTYPE=text/html:Haldon Heroic 2019 - more details: https://www.moredirt.com/event/3242
LOCATION:
END:VEVENT
END:VCALENDAR