BEGIN:VCALENDAR
VERSION:2.0
PRODID:-//MoreDirt v1.0//EN
BEGIN:VEVENT
DTSTAMP:20150730T130000Z
ORGANIZER;CN=Breakpad Bike Shop:MAILTO:
STATUS:CONFIRMED
UID:MORESPORTSNETWORK3240
DTSTART:20181110T080000+0000
DTEND:20181110T120000+0000
SUMMARY:DEMO DAY at The Breakpad Kirroughtree
DESCRIPTION:DEMO DAY at The Breakpad Kirroughtree - more details: https://www.moredirt.com/event/3240
X-ALT-DESC;FMTTYPE=text/html:DEMO DAY at The Breakpad Kirroughtree - more details: https://www.moredirt.com/event/3240
LOCATION:
END:VEVENT
END:VCALENDAR