BEGIN:VCALENDAR
VERSION:2.0
PRODID:-//MoreDirt v1.0//EN
BEGIN:VEVENT
DTSTAMP:20150730T130000Z
ORGANIZER;CN=Farrelly Atkinson:MAILTO:
STATUS:CONFIRMED
UID:MORESPORTSNETWORK3219
DTSTART:20190310T080000+0000
DTEND:20190310T120000+0000
SUMMARY:Bike Live Demo Day 2019 - Bath
DESCRIPTION:Bike Live Demo Day 2019 - Bath - more details: https://www.moredirt.com/event/3219
X-ALT-DESC;FMTTYPE=text/html:Bike Live Demo Day 2019 - Bath - more details: https://www.moredirt.com/event/3219
LOCATION:
END:VEVENT
END:VCALENDAR