BEGIN:VCALENDAR
VERSION:2.0
PRODID:-//MoreDirt v1.0//EN
BEGIN:VEVENT
DTSTAMP:20150730T130000Z
ORGANIZER;CN=Channel Adventure Ltd:MAILTO:
STATUS:CONFIRMED
UID:MORESPORTSNETWORK3217
DTSTART:20190615T080000Z
DTEND:20190615T120000Z
SUMMARY:Mendip Murmuration 2019
DESCRIPTION:Mendip Murmuration 2019 - more details: https://www.moredirt.com/event/3217
X-ALT-DESC;FMTTYPE=text/html:Mendip Murmuration 2019 - more details: https://www.moredirt.com/event/3217
LOCATION:
END:VEVENT
END:VCALENDAR