BEGIN:VCALENDAR
VERSION:2.0
PRODID:-//MoreDirt v1.0//EN
BEGIN:VEVENT
DTSTAMP:20150730T130000Z
ORGANIZER;CN=Hopetech Women:MAILTO:
STATUS:CONFIRMED
UID:MORESPORTSNETWORK3205
DTSTART:20191020T080000Z
DTEND:20191020T120000Z
SUMMARY:Hopetech Women Enduro 2019
DESCRIPTION:Hopetech Women Enduro 2019 - more details: https://www.moredirt.com/event/3205
X-ALT-DESC;FMTTYPE=text/html:Hopetech Women Enduro 2019 - more details: https://www.moredirt.com/event/3205
LOCATION:
END:VEVENT
END:VCALENDAR