BEGIN:VCALENDAR
VERSION:2.0
PRODID:-//MoreDirt v1.0//EN
BEGIN:VEVENT
DTSTAMP:20150730T130000Z
ORGANIZER;CN=Boltby Bash Enduro:MAILTO:
STATUS:CONFIRMED
UID:MORESPORTSNETWORK3198
DTSTART:20190517T080000Z
DTEND:20190519T120000Z
SUMMARY:Boltby Bash 2019
DESCRIPTION:Boltby Bash 2019 - more details: https://www.moredirt.com/event/3198
X-ALT-DESC;FMTTYPE=text/html:Boltby Bash 2019 - more details: https://www.moredirt.com/event/3198
LOCATION:
END:VEVENT
END:VCALENDAR