BEGIN:VCALENDAR
VERSION:2.0
PRODID:-//MoreDirt v1.0//EN
BEGIN:VEVENT
DTSTAMP:20150730T130000Z
ORGANIZER;CN=Leisure Lakes Bikes:MAILTO:
STATUS:CONFIRMED
UID:MORESPORTSNETWORK3189
DTSTART:20190323T080000+0000
DTEND:20190324T120000+0000
SUMMARY:Leisure Lakes Demo Weekend 2019
DESCRIPTION:Leisure Lakes Demo Weekend 2019 - more details: https://www.moredirt.com/event/3189
X-ALT-DESC;FMTTYPE=text/html:Leisure Lakes Demo Weekend 2019 - more details: https://www.moredirt.com/event/3189
LOCATION:
END:VEVENT
END:VCALENDAR