BEGIN:VCALENDAR
VERSION:2.0
PRODID:-//MoreDirt v1.0//EN
BEGIN:VEVENT
DTSTAMP:20150730T130000Z
ORGANIZER;CN=Silverfish UK:MAILTO:
STATUS:CONFIRMED
UID:MORESPORTSNETWORK3183
DTSTART:20181021T080000Z
DTEND:20181021T120000Z
SUMMARY:Mondraker / Fox Demo Day
DESCRIPTION:Mondraker / Fox Demo Day - more details: https://www.moredirt.com/event/3183
X-ALT-DESC;FMTTYPE=text/html:Mondraker / Fox Demo Day - more details: https://www.moredirt.com/event/3183
LOCATION:
END:VEVENT
END:VCALENDAR