BEGIN:VCALENDAR
VERSION:2.0
PRODID:-//MoreDirt v1.0//EN
BEGIN:VEVENT
DTSTAMP:20150730T130000Z
ORGANIZER;CN=Stile Cop Downhill Trails:MAILTO:
STATUS:CONFIRMED
UID:MORESPORTSNETWORK3181
DTSTART:20181020T080000Z
DTEND:20181020T120000Z
SUMMARY:Stile Cop Downhill Build Day
DESCRIPTION:Stile Cop Downhill Build Day - more details: https://www.moredirt.com/event/3181
X-ALT-DESC;FMTTYPE=text/html:Stile Cop Downhill Build Day - more details: https://www.moredirt.com/event/3181
LOCATION:
END:VEVENT
END:VCALENDAR