BEGIN:VCALENDAR
VERSION:2.0
PRODID:-//MoreDirt v1.0//EN
BEGIN:VEVENT
DTSTAMP:20150730T130000Z
ORGANIZER;CN=Alpine Bikes:MAILTO:
STATUS:CONFIRMED
UID:MORESPORTSNETWORK3178
DTSTART:20181020T080000Z
DTEND:20181020T120000Z
SUMMARY:Cube Bikes Demo Day - Alpine Bikes
DESCRIPTION:Cube Bikes Demo Day - Alpine Bikes - more details: https://www.moredirt.com/event/3178
X-ALT-DESC;FMTTYPE=text/html:Cube Bikes Demo Day - Alpine Bikes - more details: https://www.moredirt.com/event/3178
LOCATION:
END:VEVENT
END:VCALENDAR