BEGIN:VCALENDAR
VERSION:2.0
PRODID:-//MoreDirt v1.0//EN
BEGIN:VEVENT
DTSTAMP:20150730T130000Z
ORGANIZER;CN=Rutland Cycling:MAILTO:
STATUS:CONFIRMED
UID:MORESPORTSNETWORK3172
DTSTART:20181104T080000+0000
DTEND:20181104T120000+0000
SUMMARY:Rutland Cycling MTB Demo Day 2018
DESCRIPTION:Rutland Cycling MTB Demo Day 2018 - more details: https://www.moredirt.com/event/3172
X-ALT-DESC;FMTTYPE=text/html:Rutland Cycling MTB Demo Day 2018 - more details: https://www.moredirt.com/event/3172
LOCATION:
END:VEVENT
END:VCALENDAR