BEGIN:VCALENDAR
VERSION:2.0
PRODID:-//MoreDirt v1.0//EN
BEGIN:VEVENT
DTSTAMP:20150730T130000Z
ORGANIZER;CN=Ridelines (Mountain Bike Tuition) Ltd:MAILTO:
STATUS:CONFIRMED
UID:MORESPORTSNETWORK3170
DTSTART:20181028T080000+0000
DTEND:20181028T120000+0000
SUMMARY:Beginners Mountain Bike skills course at Cathkin Braes
DESCRIPTION:Beginners Mountain Bike skills course at Cathkin Braes - more details: https://www.moredirt.com/event/3170
X-ALT-DESC;FMTTYPE=text/html:Beginners Mountain Bike skills course at Cathkin Braes - more details: https://www.moredirt.com/event/3170
LOCATION:
END:VEVENT
END:VCALENDAR