BEGIN:VCALENDAR
VERSION:2.0
PRODID:-//MoreDirt v1.0//EN
BEGIN:VEVENT
DTSTAMP:20150730T130000Z
ORGANIZER;CN=Okeford Hill Bikepark:MAILTO:
STATUS:CONFIRMED
UID:MORESPORTSNETWORK3169
DTSTART:20181103T080000+0000
DTEND:20181103T120000+0000
SUMMARY:Okeford Hill Bikepark Dirt Divas
DESCRIPTION:Okeford Hill Bikepark Dirt Divas - more details: https://www.moredirt.com/event/3169
X-ALT-DESC;FMTTYPE=text/html:Okeford Hill Bikepark Dirt Divas - more details: https://www.moredirt.com/event/3169
LOCATION:
END:VEVENT
END:VCALENDAR