BEGIN:VCALENDAR
VERSION:2.0
PRODID:-//MoreDirt v1.0//EN
BEGIN:VEVENT
DTSTAMP:20150730T130000Z
ORGANIZER;CN=:MAILTO:
STATUS:CONFIRMED
UID:MORESPORTSNETWORK3165
DTSTART:20181013T080000Z
DTEND:20181014T120000Z
SUMMARY:Alpine Bikes AW18 Whyte Demo Weekend
DESCRIPTION:Alpine Bikes AW18 Whyte Demo Weekend - more details: https://www.moredirt.com/event/3165
X-ALT-DESC;FMTTYPE=text/html:Alpine Bikes AW18 Whyte Demo Weekend - more details: https://www.moredirt.com/event/3165
LOCATION:
END:VEVENT
END:VCALENDAR