BEGIN:VCALENDAR
VERSION:2.0
PRODID:-//MoreDirt v1.0//EN
BEGIN:VEVENT
DTSTAMP:20150730T130000Z
ORGANIZER;CN=:MAILTO:
STATUS:CONFIRMED
UID:MORESPORTSNETWORK3163
DTSTART:20181005T080000Z
DTEND:20181005T120000Z
SUMMARY:Cube Demo Day – Sherwoord Pines
DESCRIPTION:Cube Demo Day – Sherwoord Pines - more details: https://www.moredirt.com/event/3163
X-ALT-DESC;FMTTYPE=text/html:Cube Demo Day – Sherwoord Pines - more details: https://www.moredirt.com/event/3163
LOCATION:
END:VEVENT
END:VCALENDAR