BEGIN:VCALENDAR
VERSION:2.0
PRODID:-//MoreDirt v1.0//EN
BEGIN:VEVENT
DTSTAMP:20150730T130000Z
ORGANIZER;CN=Trail Break:MAILTO:
STATUS:CONFIRMED
UID:MORESPORTSNETWORK3160
DTSTART:20181110T080000+0000
DTEND:20181110T120000+0000
SUMMARY:Tommys Ride
DESCRIPTION:Tommys Ride - more details: https://www.moredirt.com/event/3160
X-ALT-DESC;FMTTYPE=text/html:Tommys Ride - more details: https://www.moredirt.com/event/3160
LOCATION:
END:VEVENT
END:VCALENDAR