BEGIN:VCALENDAR
VERSION:2.0
PRODID:-//MoreDirt v1.0//EN
BEGIN:VEVENT
DTSTAMP:20150730T130000Z
ORGANIZER;CN=Peaty's Bike Bonanza:MAILTO:
STATUS:CONFIRMED
UID:MORESPORTSNETWORK3155
DTSTART:20181111T080000+0000
DTEND:20181111T120000+0000
SUMMARY:Peatys Bike Bonanza 2018
DESCRIPTION:Peatys Bike Bonanza 2018 - more details: https://www.moredirt.com/event/3155
X-ALT-DESC;FMTTYPE=text/html:Peatys Bike Bonanza 2018 - more details: https://www.moredirt.com/event/3155
LOCATION:
END:VEVENT
END:VCALENDAR