BEGIN:VCALENDAR
VERSION:2.0
PRODID:-//MoreDirt v1.0//EN
BEGIN:VEVENT
DTSTAMP:20150730T130000Z
ORGANIZER;CN=Afan Bike Shed:MAILTO:
STATUS:CONFIRMED
UID:MORESPORTSNETWORK3135
DTSTART:20181027T080000Z
DTEND:20181028T120000+0000
SUMMARY:Afan Bike Shed Demo Day
DESCRIPTION:Afan Bike Shed Demo Day - more details: https://www.moredirt.com/event/3135
X-ALT-DESC;FMTTYPE=text/html:Afan Bike Shed Demo Day - more details: https://www.moredirt.com/event/3135
LOCATION:
END:VEVENT
END:VCALENDAR