BEGIN:VCALENDAR
VERSION:2.0
PRODID:-//MoreDirt v1.0//EN
BEGIN:VEVENT
DTSTAMP:20150730T130000Z
ORGANIZER;CN=Rogate Downhill:MAILTO:
STATUS:CONFIRMED
UID:MORESPORTSNETWORK3134
DTSTART:20181021T080000Z
DTEND:20181021T120000Z
SUMMARY:Rogate Downhill Race 2018
DESCRIPTION:Rogate Downhill Race 2018 - more details: https://www.moredirt.com/event/3134
X-ALT-DESC;FMTTYPE=text/html:Rogate Downhill Race 2018 - more details: https://www.moredirt.com/event/3134
LOCATION:
END:VEVENT
END:VCALENDAR