BEGIN:VCALENDAR
VERSION:2.0
PRODID:-//MoreDirt v1.0//EN
BEGIN:VEVENT
DTSTAMP:20150730T130000Z
ORGANIZER;CN=Adrenalin Uplift:MAILTO:
STATUS:CONFIRMED
UID:MORESPORTSNETWORK3132
DTSTART:20181103T080000+0000
DTEND:20181104T120000+0000
SUMMARY:She Sends - Womens Uplift Weekend
DESCRIPTION:She Sends - Womens Uplift Weekend - more details: https://www.moredirt.com/event/3132
X-ALT-DESC;FMTTYPE=text/html:She Sends - Womens Uplift Weekend - more details: https://www.moredirt.com/event/3132
LOCATION:
END:VEVENT
END:VCALENDAR