BEGIN:VCALENDAR
VERSION:2.0
PRODID:-//MoreDirt v1.0//EN
BEGIN:VEVENT
DTSTAMP:20150730T130000Z
ORGANIZER;CN=Tidworth Freeride:MAILTO:
STATUS:CONFIRMED
UID:MORESPORTSNETWORK3128
DTSTART:20181125T080000+0000
DTEND:20181125T120000+0000
SUMMARY:Hooper Hoohaa 2018
DESCRIPTION:Hooper Hoohaa 2018 - more details: https://www.moredirt.com/event/3128
X-ALT-DESC;FMTTYPE=text/html:Hooper Hoohaa 2018 - more details: https://www.moredirt.com/event/3128
LOCATION:
END:VEVENT
END:VCALENDAR