BEGIN:VCALENDAR
VERSION:2.0
PRODID:-//MoreDirt v1.0//EN
BEGIN:VEVENT
DTSTAMP:20150730T130000Z
ORGANIZER;CN=Joseph Sinclair:MAILTO:
STATUS:CONFIRMED
UID:MORESPORTSNETWORK3127
DTSTART:20181014T080000Z
DTEND:20181014T120000Z
SUMMARY:New Forest XC
DESCRIPTION:New Forest XC - more details: https://www.moredirt.com/event/3127
X-ALT-DESC;FMTTYPE=text/html:New Forest XC - more details: https://www.moredirt.com/event/3127
LOCATION:
END:VEVENT
END:VCALENDAR