BEGIN:VCALENDAR
VERSION:2.0
PRODID:-//MoreDirt v1.0//EN
BEGIN:VEVENT
DTSTAMP:20150730T130000Z
ORGANIZER;CN=Biketreks Ltd:MAILTO:
STATUS:CONFIRMED
UID:MORESPORTSNETWORK3125
DTSTART:20180915T080000Z
DTEND:20180915T120000Z
SUMMARY:Hope HB160 Demo Day
DESCRIPTION:Hope HB160 Demo Day - more details: https://www.moredirt.com/event/3125
X-ALT-DESC;FMTTYPE=text/html:Hope HB160 Demo Day - more details: https://www.moredirt.com/event/3125
LOCATION:
END:VEVENT
END:VCALENDAR