BEGIN:VCALENDAR
VERSION:2.0
PRODID:-//MoreDirt v1.0//EN
BEGIN:VEVENT
DTSTAMP:20150730T130000Z
ORGANIZER;CN=Loaghtan Loaded:MAILTO:
STATUS:CONFIRMED
UID:MORESPORTSNETWORK3107
DTSTART:20190615T080000Z
DTEND:20190616T120000Z
SUMMARY:Conister Bank Longest Day, Longest Ride 2019
DESCRIPTION:Conister Bank Longest Day, Longest Ride 2019 - more details: https://www.moredirt.com/event/3107
X-ALT-DESC;FMTTYPE=text/html:Conister Bank Longest Day, Longest Ride 2019 - more details: https://www.moredirt.com/event/3107
LOCATION:
END:VEVENT
END:VCALENDAR