BEGIN:VCALENDAR
VERSION:2.0
PRODID:-//MoreDirt v1.0//EN
BEGIN:VEVENT
DTSTAMP:20150730T130000Z
ORGANIZER;CN=Rat Race Adventure Sports:MAILTO:
STATUS:CONFIRMED
UID:MORESPORTSNETWORK3103
DTSTART:20190726T080000Z
DTEND:20190726T120000Z
SUMMARY:Rat Race The Crossing 2019
DESCRIPTION:Rat Race The Crossing 2019 - more details: https://www.moredirt.com/event/3103
X-ALT-DESC;FMTTYPE=text/html:Rat Race The Crossing 2019 - more details: https://www.moredirt.com/event/3103
LOCATION:
END:VEVENT
END:VCALENDAR