BEGIN:VCALENDAR
VERSION:2.0
PRODID:-//MoreDirt v1.0//EN
BEGIN:VEVENT
DTSTAMP:20150730T130000Z
ORGANIZER;CN=Mud, Sweat & Gears Ltd:MAILTO:
STATUS:CONFIRMED
UID:MORESPORTSNETWORK3101
DTSTART:20181021T080000Z
DTEND:20181021T120000Z
SUMMARY:The Dorset Dirty Dabbler 2018
DESCRIPTION:The Dorset Dirty Dabbler 2018 - more details: https://www.moredirt.com/event/3101
X-ALT-DESC;FMTTYPE=text/html:The Dorset Dirty Dabbler 2018 - more details: https://www.moredirt.com/event/3101
LOCATION:
END:VEVENT
END:VCALENDAR