BEGIN:VCALENDAR
VERSION:2.0
PRODID:-//MoreDirt v1.0//EN
BEGIN:VEVENT
DTSTAMP:20150730T130000Z
ORGANIZER;CN=Newbridge Park:MAILTO:
STATUS:CONFIRMED
UID:MORESPORTSNETWORK3090
DTSTART:20180930T080000Z
DTEND:20180930T120000Z
SUMMARY:Newbridge Park MTB Marathon Sponsored Ride
DESCRIPTION:Newbridge Park MTB Marathon Sponsored Ride - more details: https://www.moredirt.com/event/3090
X-ALT-DESC;FMTTYPE=text/html:Newbridge Park MTB Marathon Sponsored Ride - more details: https://www.moredirt.com/event/3090
LOCATION:
END:VEVENT
END:VCALENDAR