BEGIN:VCALENDAR
VERSION:2.0
PRODID:-//MoreDirt v1.0//EN
BEGIN:VEVENT
DTSTAMP:20150730T130000Z
ORGANIZER;CN=Gary Wallace:MAILTO:
STATUS:CONFIRMED
UID:MORESPORTSNETWORK308
DTSTART:20120218T080000+0000
DTEND:20120219T120000+0000
SUMMARY:The Winter Series RD3
DESCRIPTION:The Winter Series RD3 - more details: https://www.moredirt.com/event/308
X-ALT-DESC;FMTTYPE=text/html:The Winter Series RD3 - more details: https://www.moredirt.com/event/308
LOCATION:
END:VEVENT
END:VCALENDAR