BEGIN:VCALENDAR
VERSION:2.0
PRODID:-//MoreDirt v1.0//EN
BEGIN:VEVENT
DTSTAMP:20150730T130000Z
ORGANIZER;CN=Comrie Croft Bikes:MAILTO:
STATUS:CONFIRMED
UID:MORESPORTSNETWORK3088
DTSTART:20181014T080000Z
DTEND:20181014T120000Z
SUMMARY:Hairy Coo Mountain Bike Races 2018
DESCRIPTION:Hairy Coo Mountain Bike Races 2018 - more details: https://www.moredirt.com/event/3088
X-ALT-DESC;FMTTYPE=text/html:Hairy Coo Mountain Bike Races 2018 - more details: https://www.moredirt.com/event/3088
LOCATION:
END:VEVENT
END:VCALENDAR