BEGIN:VCALENDAR
VERSION:2.0
PRODID:-//MoreDirt v1.0//EN
BEGIN:VEVENT
DTSTAMP:20150730T130000Z
ORGANIZER;CN=DoonThaBrae Events:MAILTO:
STATUS:CONFIRMED
UID:MORESPORTSNETWORK3083
DTSTART:20181007T080000Z
DTEND:20181007T120000Z
SUMMARY:Drumtochty Local Enduro
DESCRIPTION:Drumtochty Local Enduro - more details: https://www.moredirt.com/event/3083
X-ALT-DESC;FMTTYPE=text/html:Drumtochty Local Enduro - more details: https://www.moredirt.com/event/3083
LOCATION:
END:VEVENT
END:VCALENDAR