BEGIN:VCALENDAR
VERSION:2.0
PRODID:-//MoreDirt v1.0//EN
BEGIN:VEVENT
DTSTAMP:20150730T130000Z
ORGANIZER;CN=Pacific Edge Events Ltd:MAILTO:
STATUS:CONFIRMED
UID:MORESPORTSNETWORK3078
DTSTART:20190621T080000Z
DTEND:20190623T120000Z
SUMMARY:Mountain Mayhem 2019
DESCRIPTION:Mountain Mayhem 2019 - more details: https://www.moredirt.com/event/3078
X-ALT-DESC;FMTTYPE=text/html:Mountain Mayhem 2019 - more details: https://www.moredirt.com/event/3078
LOCATION:
END:VEVENT
END:VCALENDAR