BEGIN:VCALENDAR
VERSION:2.0
PRODID:-//MoreDirt v1.0//EN
BEGIN:VEVENT
DTSTAMP:20150730T130000Z
ORGANIZER;CN=Ride Culture - Pedal:MAILTO:
STATUS:CONFIRMED
UID:MORESPORTSNETWORK3077
DTSTART:20180817T080000Z
DTEND:20180819T120000Z
SUMMARY:Pedal - Bristol's Cycling Festival
DESCRIPTION:Pedal - Bristol's Cycling Festival - more details: https://www.moredirt.com/event/3077
X-ALT-DESC;FMTTYPE=text/html:Pedal - Bristol's Cycling Festival - more details: https://www.moredirt.com/event/3077
LOCATION:
END:VEVENT
END:VCALENDAR