BEGIN:VCALENDAR
VERSION:2.0
PRODID:-//MoreDirt v1.0//EN
BEGIN:VEVENT
DTSTAMP:20150730T130000Z
ORGANIZER;CN=Dalby Forest:MAILTO:
STATUS:CONFIRMED
UID:MORESPORTSNETWORK3064
DTSTART:20180819T080000Z
DTEND:20180819T120000Z
SUMMARY:Red Cycle Trail Volunteer Day
DESCRIPTION:Red Cycle Trail Volunteer Day - more details: https://www.moredirt.com/event/3064
X-ALT-DESC;FMTTYPE=text/html:Red Cycle Trail Volunteer Day - more details: https://www.moredirt.com/event/3064
LOCATION:
END:VEVENT
END:VCALENDAR