BEGIN:VCALENDAR
VERSION:2.0
PRODID:-//MoreDirt v1.0//EN
BEGIN:VEVENT
DTSTAMP:20150730T130000Z
ORGANIZER;CN=Havok Bike Park:MAILTO:
STATUS:CONFIRMED
UID:MORESPORTSNETWORK3050
DTSTART:20180825T080000Z
DTEND:20180825T120000Z
SUMMARY:Havok Summer Jam
DESCRIPTION:Havok Summer Jam - more details: https://www.moredirt.com/event/3050
X-ALT-DESC;FMTTYPE=text/html:Havok Summer Jam - more details: https://www.moredirt.com/event/3050
LOCATION:
END:VEVENT
END:VCALENDAR